BEGIN:VCALENDAR
VERSION:2.0
PRODID:-//ProLux - ECPv6.15.20//NONSGML v1.0//EN
CALSCALE:GREGORIAN
METHOD:PUBLISH
X-WR-CALNAME:ProLux
X-ORIGINAL-URL:https://www.prolux.de
X-WR-CALDESC:Veranstaltungen für ProLux
REFRESH-INTERVAL;VALUE=DURATION:PT1H
X-Robots-Tag:noindex
X-PUBLISHED-TTL:PT1H
BEGIN:VTIMEZONE
TZID:Europe/Berlin
BEGIN:DAYLIGHT
TZOFFSETFROM:+0100
TZOFFSETTO:+0200
TZNAME:CEST
DTSTART:20250330T010000
END:DAYLIGHT
BEGIN:STANDARD
TZOFFSETFROM:+0200
TZOFFSETTO:+0100
TZNAME:CET
DTSTART:20251026T010000
END:STANDARD
BEGIN:DAYLIGHT
TZOFFSETFROM:+0100
TZOFFSETTO:+0200
TZNAME:CEST
DTSTART:20260329T010000
END:DAYLIGHT
BEGIN:STANDARD
TZOFFSETFROM:+0200
TZOFFSETTO:+0100
TZNAME:CET
DTSTART:20261025T010000
END:STANDARD
BEGIN:DAYLIGHT
TZOFFSETFROM:+0100
TZOFFSETTO:+0200
TZNAME:CEST
DTSTART:20270328T010000
END:DAYLIGHT
BEGIN:STANDARD
TZOFFSETFROM:+0200
TZOFFSETTO:+0100
TZNAME:CET
DTSTART:20271031T010000
END:STANDARD
END:VTIMEZONE
BEGIN:VEVENT
DTSTART;TZID=Europe/Berlin:20260422T090000
DTEND;TZID=Europe/Berlin:20260423T170000
DTSTAMP:20260422T014737
CREATED:20251124T130543Z
LAST-MODIFIED:20260127T110211Z
UID:6223-1776848400-1776963600@www.prolux.de
SUMMARY:EuP Basis
DESCRIPTION:
URL:https://www.prolux.de/veranstaltung/eup-basis-4
LOCATION:ProLux Systemtechnik GmbH
END:VEVENT
BEGIN:VEVENT
DTSTART;TZID=Europe/Berlin:20260428T090000
DTEND;TZID=Europe/Berlin:20260428T170000
DTSTAMP:20260422T014737
CREATED:20251124T131245Z
LAST-MODIFIED:20260126T142607Z
UID:6225-1777366800-1777395600@www.prolux.de
SUMMARY:VDE 0100
DESCRIPTION:
URL:https://www.prolux.de/veranstaltung/vde-0100-2
LOCATION:Schorndorf – EGH
CATEGORIES:VDE 0100
END:VEVENT
BEGIN:VEVENT
DTSTART;TZID=Europe/Berlin:20260429T090000
DTEND;TZID=Europe/Berlin:20260429T170000
DTSTAMP:20260422T014737
CREATED:20251124T131727Z
LAST-MODIFIED:20260126T142405Z
UID:6227-1777453200-1777482000@www.prolux.de
SUMMARY:VDE 0701/0702
DESCRIPTION:
URL:https://www.prolux.de/veranstaltung/vde-0701-0702-11
LOCATION:Schorndorf – EGH
CATEGORIES:VDE 0701 intensiv,VDE 0702 intensiv
END:VEVENT
BEGIN:VEVENT
DTSTART;TZID=Europe/Berlin:20260504T090000
DTEND;TZID=Europe/Berlin:20260506T120000
DTSTAMP:20260422T014737
CREATED:20251124T132118Z
LAST-MODIFIED:20260414T135750Z
UID:6229-1777885200-1778068800@www.prolux.de
SUMMARY:UVV-Seminar Grundlagen
DESCRIPTION:
URL:https://www.prolux.de/veranstaltung/uvv-seminar-grundlagen
LOCATION:ProLux Systemtechnik GmbH
CATEGORIES:UVV Grundlagen
END:VEVENT
BEGIN:VEVENT
DTSTART;TZID=Europe/Berlin:20260506T130000
DTEND;TZID=Europe/Berlin:20260507T130000
DTSTAMP:20260422T014737
CREATED:20251127T131504Z
LAST-MODIFIED:20260126T142208Z
UID:6314-1778072400-1778158800@www.prolux.de
SUMMARY:UVV "Aufbauseminar"
DESCRIPTION:
URL:https://www.prolux.de/veranstaltung/uvv-aufbauseminar-4
LOCATION:ProLux Systemtechnik GmbH
CATEGORIES:UVV Aufbau
END:VEVENT
BEGIN:VEVENT
DTSTART;TZID=Europe/Berlin:20260511T090000
DTEND;TZID=Europe/Berlin:20260511T150000
DTSTAMP:20260422T014737
CREATED:20251124T132226Z
LAST-MODIFIED:20260126T142148Z
UID:6231-1778490000-1778511600@www.prolux.de
SUMMARY:TABA-Online-1S
DESCRIPTION:
URL:https://www.prolux.de/veranstaltung/taba-online-1s-3
LOCATION:ProLux Systemtechnik GmbH
CATEGORIES:TABA-Online-1S
END:VEVENT
BEGIN:VEVENT
DTSTART;TZID=Europe/Berlin:20260512T090000
DTEND;TZID=Europe/Berlin:20260513T170000
DTSTAMP:20260422T014737
CREATED:20251124T132340Z
LAST-MODIFIED:20260126T141848Z
UID:6233-1778576400-1778691600@www.prolux.de
SUMMARY:VDE 0100-600
DESCRIPTION:
URL:https://www.prolux.de/veranstaltung/vde-0100-600-2
LOCATION:ProLux Systemtechnik GmbH
CATEGORIES:VDE 0100-600
END:VEVENT
BEGIN:VEVENT
DTSTART;TZID=Europe/Berlin:20260518T090000
DTEND;TZID=Europe/Berlin:20260518T170000
DTSTAMP:20260422T014737
CREATED:20251124T132944Z
LAST-MODIFIED:20260126T141312Z
UID:6235-1779094800-1779123600@www.prolux.de
SUMMARY:2S/3S Jahres-Unterweisung
DESCRIPTION:
URL:https://www.prolux.de/veranstaltung/2s-3s-jahresunterweisung-2
LOCATION:ProLux Systemtechnik GmbH
CATEGORIES:2S/3S Jahresunterweisung
END:VEVENT
BEGIN:VEVENT
DTSTART;TZID=Europe/Berlin:20260519T090000
DTEND;TZID=Europe/Berlin:20261119T100000
DTSTAMP:20260422T014737
CREATED:20251124T133106Z
LAST-MODIFIED:20260126T142701Z
UID:6237-1779181200-1795082400@www.prolux.de
SUMMARY:Sonel Seminar
DESCRIPTION:
URL:https://www.prolux.de/veranstaltung/sonel-seminar
LOCATION:Frankfurt\, Frankfurt\, Germany
CATEGORIES:Sonel Seminar
END:VEVENT
BEGIN:VEVENT
DTSTART;TZID=Europe/Berlin:20260521T090000
DTEND;TZID=Europe/Berlin:20260521T170000
DTSTAMP:20260422T014737
CREATED:20251208T131428Z
LAST-MODIFIED:20260126T141531Z
UID:6363-1779354000-1779382800@www.prolux.de
SUMMARY:EuP Jahres-Unterweisung
DESCRIPTION:
URL:https://www.prolux.de/veranstaltung/eup-jahresunterweisung-3
LOCATION:ProLux Systemtechnik GmbH
CATEGORIES:EuP Jahresunterweisung
END:VEVENT
BEGIN:VEVENT
DTSTART;TZID=Europe/Berlin:20260526T090000
DTEND;TZID=Europe/Berlin:20260527T170000
DTSTAMP:20260422T014737
CREATED:20251124T133548Z
LAST-MODIFIED:20260126T141706Z
UID:6243-1779786000-1779901200@www.prolux.de
SUMMARY:VDE 0701-0702
DESCRIPTION:
URL:https://www.prolux.de/veranstaltung/vde-0701-0702-17
LOCATION:ProLux Systemtechnik GmbH
CATEGORIES:VDE 0701,VDE 0702
END:VEVENT
BEGIN:VEVENT
DTSTART;TZID=Europe/Berlin:20260528T090000
DTEND;TZID=Europe/Berlin:20260529T170000
DTSTAMP:20260422T014737
CREATED:20251124T133917Z
LAST-MODIFIED:20260126T141507Z
UID:6247-1779958800-1780074000@www.prolux.de
SUMMARY:FHV-2S (Englisch)
DESCRIPTION:
URL:https://www.prolux.de/veranstaltung/fhv-2s-englisch-3
LOCATION:ProLux Systemtechnik GmbH
CATEGORIES:FHV 2S,FHV 2S Englisch
END:VEVENT
BEGIN:VEVENT
DTSTART;TZID=Europe/Berlin:20260611T090000
DTEND;TZID=Europe/Berlin:20260613T170000
DTSTAMP:20260422T014737
CREATED:20251124T133356Z
LAST-MODIFIED:20260126T142714Z
UID:6239-1781168400-1781370000@www.prolux.de
SUMMARY:IFBA - Messe
DESCRIPTION:
URL:https://www.prolux.de/veranstaltung/ifba-messe
LOCATION:Kassel
CATEGORIES:IFBA-Messe
END:VEVENT
BEGIN:VEVENT
DTSTART;TZID=Europe/Berlin:20260618T090000
DTEND;TZID=Europe/Berlin:20260619T170000
DTSTAMP:20260422T014737
CREATED:20260121T092601Z
LAST-MODIFIED:20260121T094427Z
UID:6746-1781773200-1781888400@www.prolux.de
SUMMARY:Sichere Umgang mit havarierten HV-Fahrzeuge?
DESCRIPTION:
URL:https://www.prolux.de/veranstaltung/sichere-umgang-mit-havarierten-hv-fahrzeuge-2
LOCATION:ProLux Systemtechnik GmbH
END:VEVENT
BEGIN:VEVENT
DTSTART;TZID=Europe/Berlin:20260622T090000
DTEND;TZID=Europe/Berlin:20260623T170000
DTSTAMP:20260422T014737
CREATED:20251124T134315Z
LAST-MODIFIED:20260126T142013Z
UID:6250-1782118800-1782234000@www.prolux.de
SUMMARY:Prüfungen Ladeinfrastruktur
DESCRIPTION:
URL:https://www.prolux.de/veranstaltung/pruefungen-ladeinfrastruktur-2
LOCATION:ProLux Systemtechnik GmbH
CATEGORIES:Ladeinfrastruktur
END:VEVENT
BEGIN:VEVENT
DTSTART;TZID=Europe/Berlin:20260629T090000
DTEND;TZID=Europe/Berlin:20260630T170000
DTSTAMP:20260422T014737
CREATED:20251216T082818Z
LAST-MODIFIED:20260126T141608Z
UID:6416-1782723600-1782838800@www.prolux.de
SUMMARY:EuP Basis
DESCRIPTION:
URL:https://www.prolux.de/veranstaltung/eup-basis-7
LOCATION:ProLux Systemtechnik GmbH
CATEGORIES:EuP Basis
END:VEVENT
BEGIN:VEVENT
DTSTART;TZID=Europe/Berlin:20260706T090000
DTEND;TZID=Europe/Berlin:20260707T170000
DTSTAMP:20260422T014737
CREATED:20251216T083031Z
LAST-MODIFIED:20260126T141847Z
UID:6418-1783328400-1783443600@www.prolux.de
SUMMARY:VDE 0100-600
DESCRIPTION:
URL:https://www.prolux.de/veranstaltung/vde-0100-600-5
LOCATION:ProLux Systemtechnik GmbH
CATEGORIES:VDE 0100-600
END:VEVENT
BEGIN:VEVENT
DTSTART;TZID=Europe/Berlin:20260721T090000
DTEND;TZID=Europe/Berlin:20260722T170000
DTSTAMP:20260422T014737
CREATED:20251124T135057Z
LAST-MODIFIED:20260126T141445Z
UID:6258-1784624400-1784739600@www.prolux.de
SUMMARY:FHV-2S
DESCRIPTION:
URL:https://www.prolux.de/veranstaltung/fhv-2s-18
LOCATION:ProLux Systemtechnik GmbH
CATEGORIES:FHV 2S
END:VEVENT
BEGIN:VEVENT
DTSTART;TZID=Europe/Berlin:20260723T090000
DTEND;TZID=Europe/Berlin:20260723T150000
DTSTAMP:20260422T014737
CREATED:20251124T134638Z
LAST-MODIFIED:20260126T142147Z
UID:6256-1784797200-1784818800@www.prolux.de
SUMMARY:TABA-Online-1S
DESCRIPTION:
URL:https://www.prolux.de/veranstaltung/taba-online-1s-4
LOCATION:ProLux Systemtechnik GmbH
CATEGORIES:TABA-Online-1S
END:VEVENT
BEGIN:VEVENT
DTSTART;TZID=Europe/Berlin:20260727T090000
DTEND;TZID=Europe/Berlin:20260727T170000
DTSTAMP:20260422T014737
CREATED:20251124T135226Z
LAST-MODIFIED:20260126T142606Z
UID:6260-1785142800-1785171600@www.prolux.de
SUMMARY:VDE 0100
DESCRIPTION:
URL:https://www.prolux.de/veranstaltung/vde-0100-3
LOCATION:Schorndorf – EGH
CATEGORIES:VDE 0100
END:VEVENT
BEGIN:VEVENT
DTSTART;TZID=Europe/Berlin:20260728T090000
DTEND;TZID=Europe/Berlin:20260728T170000
DTSTAMP:20260422T014737
CREATED:20251124T135324Z
LAST-MODIFIED:20260126T142405Z
UID:6262-1785229200-1785258000@www.prolux.de
SUMMARY:VDE 0701/0702
DESCRIPTION:
URL:https://www.prolux.de/veranstaltung/vde-0701-0702-14
LOCATION:Schorndorf – EGH
CATEGORIES:VDE 0701 intensiv,VDE 0702 intensiv
END:VEVENT
BEGIN:VEVENT
DTSTART;TZID=Europe/Berlin:20260901T090000
DTEND;TZID=Europe/Berlin:20260901T150000
DTSTAMP:20260422T014737
CREATED:20251125T080809Z
LAST-MODIFIED:20260126T142146Z
UID:6270-1788253200-1788274800@www.prolux.de
SUMMARY:TABA-Online-1S
DESCRIPTION:
URL:https://www.prolux.de/veranstaltung/taba-online-1s-5
LOCATION:ProLux Systemtechnik GmbH
CATEGORIES:TABA-Online-1S
END:VEVENT
BEGIN:VEVENT
DTSTART;TZID=Europe/Berlin:20260902T090000
DTEND;TZID=Europe/Berlin:20260902T170000
DTSTAMP:20260422T014737
CREATED:20251125T081101Z
LAST-MODIFIED:20260126T141530Z
UID:6272-1788339600-1788368400@www.prolux.de
SUMMARY:EuP Jahres-Unterweisung
DESCRIPTION:
URL:https://www.prolux.de/veranstaltung/eup-jahresunterweisung-4
LOCATION:ProLux Systemtechnik GmbH
CATEGORIES:EuP Jahresunterweisung
END:VEVENT
BEGIN:VEVENT
DTSTART;TZID=Europe/Berlin:20260907T090000
DTEND;TZID=Europe/Berlin:20260907T170000
DTSTAMP:20260422T014737
CREATED:20251216T083711Z
LAST-MODIFIED:20260126T141311Z
UID:6422-1788771600-1788800400@www.prolux.de
SUMMARY:2S/3S Jahres-Unterweisung
DESCRIPTION:
URL:https://www.prolux.de/veranstaltung/2s-3s-jahresunterweisung-5
CATEGORIES:2S/3S Jahresunterweisung
END:VEVENT
BEGIN:VEVENT
DTSTART;TZID=Europe/Berlin:20260910T090000
DTEND;TZID=Europe/Berlin:20260911T170000
DTSTAMP:20260422T014737
CREATED:20260121T093441Z
LAST-MODIFIED:20260121T093441Z
UID:6749-1789030800-1789146000@www.prolux.de
SUMMARY:Sichere Umgang mit havarierten HV-Fahrzeuge?
DESCRIPTION:
URL:https://www.prolux.de/veranstaltung/sichere-umgang-mit-havarierten-hv-fahrzeuge-3
LOCATION:ProLux Systemtechnik GmbH
END:VEVENT
BEGIN:VEVENT
DTSTART;TZID=Europe/Berlin:20260918T090000
DTEND;TZID=Europe/Berlin:20260918T160000
DTSTAMP:20260422T014737
CREATED:20260121T093646Z
LAST-MODIFIED:20260213T090839Z
UID:6751-1789722000-1789747200@www.prolux.de
SUMMARY:UVV-Jahresunterweisung
DESCRIPTION:
URL:https://www.prolux.de/veranstaltung/uvv-jahresunterweisung
LOCATION:ProLux Systemtechnik GmbH
CATEGORIES:UVV
END:VEVENT
BEGIN:VEVENT
DTSTART;TZID=Europe/Berlin:20260921T090000
DTEND;TZID=Europe/Berlin:20260924T170000
DTSTAMP:20260422T014737
CREATED:20251125T081521Z
LAST-MODIFIED:20260126T142624Z
UID:6276-1789981200-1790269200@www.prolux.de
SUMMARY:TABA-Seminar
DESCRIPTION:
URL:https://www.prolux.de/veranstaltung/taba-seminar-3
LOCATION:ProLux Systemtechnik GmbH
CATEGORIES:TABA-Seminar
END:VEVENT
BEGIN:VEVENT
DTSTART;TZID=Europe/Berlin:20260928T090000
DTEND;TZID=Europe/Berlin:20260929T170000
DTSTAMP:20260422T014737
CREATED:20251125T081952Z
LAST-MODIFIED:20260126T141446Z
UID:6278-1790586000-1790701200@www.prolux.de
SUMMARY:FHV-2S
DESCRIPTION:
URL:https://www.prolux.de/veranstaltung/fhv-2s-19
LOCATION:ProLux Systemtechnik GmbH
CATEGORIES:FHV 2S
END:VEVENT
BEGIN:VEVENT
DTSTART;TZID=Europe/Berlin:20261005T090000
DTEND;TZID=Europe/Berlin:20261007T120000
DTSTAMP:20260422T014737
CREATED:20251125T084059Z
LAST-MODIFIED:20260414T135816Z
UID:6280-1791190800-1791374400@www.prolux.de
SUMMARY:UVV-Seminar Grundlagen
DESCRIPTION:
URL:https://www.prolux.de/veranstaltung/uvv-seminar-grundlagen-2
LOCATION:ProLux Systemtechnik GmbH
CATEGORIES:UVV Grundlagen
END:VEVENT
BEGIN:VEVENT
DTSTART;TZID=Europe/Berlin:20261007T130000
DTEND;TZID=Europe/Berlin:20261008T130000
DTSTAMP:20260422T014737
CREATED:20251127T131703Z
LAST-MODIFIED:20260126T142207Z
UID:6316-1791378000-1791464400@www.prolux.de
SUMMARY:UVV "Aufbauseminar"
DESCRIPTION:
URL:https://www.prolux.de/veranstaltung/uvv-aufbauseminar-5
LOCATION:ProLux Systemtechnik GmbH
CATEGORIES:UVV Aufbau
END:VEVENT
END:VCALENDAR